BEGIN:VCALENDAR
VERSION:2.0
PRODID:-//台灣基督長老教會台北中會 - ECPv6.15.20//NONSGML v1.0//EN
CALSCALE:GREGORIAN
METHOD:PUBLISH
X-WR-CALNAME:台灣基督長老教會台北中會
X-ORIGINAL-URL:https://tppct.org.tw
X-WR-CALDESC:Events for 台灣基督長老教會台北中會
REFRESH-INTERVAL;VALUE=DURATION:PT1H
X-Robots-Tag:noindex
X-PUBLISHED-TTL:PT1H
BEGIN:VTIMEZONE
TZID:Asia/Taipei
BEGIN:STANDARD
TZOFFSETFROM:+0800
TZOFFSETTO:+0800
TZNAME:CST
DTSTART:20200101T000000
END:STANDARD
END:VTIMEZONE
BEGIN:VEVENT
DTSTART;TZID=Asia/Taipei:20230325T133000
DTEND;TZID=Asia/Taipei:20230325T163000
DTSTAMP:20260423T081331
CREATED:20230221T032100Z
LAST-MODIFIED:20230221T032101Z
UID:6756-1679751000-1679761800@tppct.org.tw
SUMMARY:庶務簿冊(補檢)
DESCRIPTION:
URL:https://tppct.org.tw/event/%e5%ba%b6%e5%8b%99%e7%b0%bf%e5%86%8a%e8%a3%9c%e6%aa%a2/
LOCATION:艋舺教會
CATEGORIES:活動
END:VEVENT
BEGIN:VEVENT
DTSTART;TZID=Asia/Taipei:20230318T133000
DTEND;TZID=Asia/Taipei:20230318T163000
DTSTAMP:20260423T081331
CREATED:20230221T031958Z
LAST-MODIFIED:20230221T031959Z
UID:6752-1679146200-1679157000@tppct.org.tw
SUMMARY:庶務簿冊第4次檢查
DESCRIPTION:
URL:https://tppct.org.tw/event/%e5%ba%b6%e5%8b%99%e7%b0%bf%e5%86%8a%e7%ac%ac4%e6%ac%a1%e6%aa%a2%e6%9f%a5/
LOCATION:板橋教會
CATEGORIES:活動
END:VEVENT
BEGIN:VEVENT
DTSTART;TZID=Asia/Taipei:20230318T043000
DTEND;TZID=Asia/Taipei:20230318T150000
DTSTAMP:20260423T081331
CREATED:20230221T031441Z
LAST-MODIFIED:20230221T031442Z
UID:6738-1679113800-1679151600@tppct.org.tw
SUMMARY:三峽鳶山生態之旅以及三峽教會禮拜堂建築賞析
DESCRIPTION:教社部舉辦三峽鳶山生態之旅以及三峽教會禮拜堂建築賞析，備有午餐。\n\n\n\n活動資訊：\n\n地點：三峽長老教會（新北市三峽區民族街1號）\n\n\n\n時間：2023.03.18(六) 09:00-15:00 (08:40報到)\n\n\n\n費用：每名100元（報到時繳交即可）\n\n\n\n人數限制：100人。\n\n\n\n\n\n報名資訊請參閱網址https://forms.gle/tTKw2eBCKMEAprRP6或掃QR Code報名。
URL:https://tppct.org.tw/event/%e4%b8%89%e5%b3%bd%e9%b3%b6%e5%b1%b1%e7%94%9f%e6%85%8b%e4%b9%8b%e6%97%85%e4%bb%a5%e5%8f%8a%e4%b8%89%e5%b3%bd%e6%95%99%e6%9c%83%e7%a6%ae%e6%8b%9c%e5%a0%82%e5%bb%ba%e7%af%89%e8%b3%9e%e6%9e%90/
LOCATION:三峽長老教會\, 民族街1號\, 新北市三峽區
CATEGORIES:活動
END:VEVENT
BEGIN:VEVENT
DTSTART;TZID=Asia/Taipei:20230311T093000
DTEND;TZID=Asia/Taipei:20230311T120000
DTSTAMP:20260423T081331
CREATED:20230221T031041Z
LAST-MODIFIED:20230221T031246Z
UID:6729-1678527000-1678536000@tppct.org.tw
SUMMARY:華江教會設教50週年感恩禮拜暨感恩音樂會
DESCRIPTION:
URL:https://tppct.org.tw/event/%e8%8f%af%e6%b1%9f%e6%95%99%e6%9c%83%e8%a8%ad%e6%95%9950%e9%80%b1%e5%b9%b4%e6%84%9f%e6%81%a9%e7%a6%ae%e6%8b%9c%e6%9a%a8%e6%84%9f%e6%81%a9%e9%9f%b3%e6%a8%82%e6%9c%83/
LOCATION:華江教會
CATEGORIES:活動
ATTACH;FMTTYPE=image/jpeg:https://tppct.org.tw/wp-content/uploads/2023/02/002.jpg
END:VEVENT
BEGIN:VEVENT
DTSTART;TZID=Asia/Taipei:20230311T043000
DTEND;TZID=Asia/Taipei:20230311T163000
DTSTAMP:20260423T081331
CREATED:20230221T031907Z
LAST-MODIFIED:20230221T031908Z
UID:6750-1678509000-1678552200@tppct.org.tw
SUMMARY:庶務簿冊第3次檢查
DESCRIPTION:
URL:https://tppct.org.tw/event/%e5%ba%b6%e5%8b%99%e7%b0%bf%e5%86%8a%e7%ac%ac3%e6%ac%a1%e6%aa%a2%e6%9f%a5/
CATEGORIES:活動
END:VEVENT
BEGIN:VEVENT
DTSTART;TZID=Asia/Taipei:20230304T043000
DTEND;TZID=Asia/Taipei:20230304T163000
DTSTAMP:20260423T081331
CREATED:20230221T031816Z
LAST-MODIFIED:20230221T031817Z
UID:6748-1677904200-1677947400@tppct.org.tw
SUMMARY:庶務簿冊第2次檢查
DESCRIPTION:
URL:https://tppct.org.tw/event/%e5%ba%b6%e5%8b%99%e7%b0%bf%e5%86%8a%e7%ac%ac2%e6%ac%a1%e6%aa%a2%e6%9f%a5/
LOCATION:永和教會
CATEGORIES:活動
END:VEVENT
BEGIN:VEVENT
DTSTART;TZID=Asia/Taipei:20230225T133000
DTEND;TZID=Asia/Taipei:20230225T163000
DTSTAMP:20260423T081331
CREATED:20230221T031634Z
LAST-MODIFIED:20230221T031718Z
UID:6742-1677331800-1677342600@tppct.org.tw
SUMMARY:庶務簿冊第1次檢查
DESCRIPTION:
URL:https://tppct.org.tw/event/%e5%ba%b6%e5%8b%99%e7%b0%bf%e5%86%8a%e6%aa%a2%e6%9f%a5%e5%8c%97%e5%8d%80/
LOCATION:士林教會
CATEGORIES:活動
END:VEVENT
BEGIN:VEVENT
DTSTART;TZID=Asia/Taipei:20221114T093000
DTEND;TZID=Asia/Taipei:20221114T120000
DTSTAMP:20260423T081331
CREATED:20221020T084932Z
LAST-MODIFIED:20221020T084933Z
UID:5094-1668418200-1668427200@tppct.org.tw
SUMMARY:北中師母會
DESCRIPTION:時間：11月14日（一）上午地點：鶯歌長老教會（備有9個停車空間，附近亦有收費停車場） \n\n\n\n活動流程大致如下9:30 報到10:00～10:30 詩歌＆破冰遊戲10:30～12:00馬賽克磚拼貼體驗12:00 午餐＆自由活動（老街漫遊）
URL:https://tppct.org.tw/event/%e5%8c%97%e4%b8%ad%e5%b8%ab%e6%af%8d%e6%9c%83/
CATEGORIES:活動
END:VEVENT
BEGIN:VEVENT
DTSTART;TZID=Asia/Taipei:20211119T080000
DTEND;TZID=Asia/Taipei:20211119T170000
DTSTAMP:20260423T081331
CREATED:20221020T085511Z
LAST-MODIFIED:20221020T085512Z
UID:5100-1637308800-1637341200@tppct.org.tw
SUMMARY:2021 年  婦女部秋季靈修(台中大坑海灣樂世界)歡樂一日遊
DESCRIPTION:
URL:https://tppct.org.tw/event/2021-%e5%b9%b4-%e5%a9%a6%e5%a5%b3%e9%83%a8%e7%a7%8b%e5%ad%a3%e9%9d%88%e4%bf%ae%e5%8f%b0%e4%b8%ad%e5%a4%a7%e5%9d%91%e6%b5%b7%e7%81%a3%e6%a8%82%e4%b8%96%e7%95%8c%e6%ad%a1%e6%a8%82%e4%b8%80%e6%97%a5/
LOCATION:台中大坑海灣樂世界
CATEGORIES:活動
END:VEVENT
BEGIN:VEVENT
DTSTART;TZID=Asia/Taipei:20211113T080000
DTEND;TZID=Asia/Taipei:20211113T170000
DTSTAMP:20260423T081331
CREATED:20221020T090241Z
LAST-MODIFIED:20221020T090242Z
UID:5116-1636790400-1636822800@tppct.org.tw
SUMMARY:台北中會、七星中會成立70週年紀念桌球賽
DESCRIPTION:
URL:https://tppct.org.tw/event/%e5%8f%b0%e5%8c%97%e4%b8%ad%e6%9c%83%e3%80%81%e4%b8%83%e6%98%9f%e4%b8%ad%e6%9c%83%e6%88%90%e7%ab%8b70%e9%80%b1%e5%b9%b4%e7%b4%80%e5%bf%b5%e6%a1%8c%e7%90%83%e8%b3%bd/
LOCATION:真理大學體育館桌球場
CATEGORIES:活動
END:VEVENT
END:VCALENDAR